BEGIN:VCALENDAR
VERSION:2.0
PRODID:-//Peaceful Schools - ECPv6.15.20//NONSGML v1.0//EN
CALSCALE:GREGORIAN
METHOD:PUBLISH
X-ORIGINAL-URL:https://peacefulschools.com
X-WR-CALDESC:Events for Peaceful Schools
REFRESH-INTERVAL;VALUE=DURATION:PT1H
X-Robots-Tag:noindex
X-PUBLISHED-TTL:PT1H
BEGIN:VTIMEZONE
TZID:UTC
BEGIN:STANDARD
TZOFFSETFROM:+0000
TZOFFSETTO:+0000
TZNAME:UTC
DTSTART:20180101T000000
END:STANDARD
END:VTIMEZONE
BEGIN:VTIMEZONE
TZID:America/New_York
BEGIN:DAYLIGHT
TZOFFSETFROM:-0500
TZOFFSETTO:-0400
TZNAME:EDT
DTSTART:20180311T070000
END:DAYLIGHT
BEGIN:STANDARD
TZOFFSETFROM:-0400
TZOFFSETTO:-0500
TZNAME:EST
DTSTART:20181104T060000
END:STANDARD
BEGIN:DAYLIGHT
TZOFFSETFROM:-0500
TZOFFSETTO:-0400
TZNAME:EDT
DTSTART:20190310T070000
END:DAYLIGHT
BEGIN:STANDARD
TZOFFSETFROM:-0400
TZOFFSETTO:-0500
TZNAME:EST
DTSTART:20191103T060000
END:STANDARD
BEGIN:DAYLIGHT
TZOFFSETFROM:-0500
TZOFFSETTO:-0400
TZNAME:EDT
DTSTART:20200308T070000
END:DAYLIGHT
BEGIN:STANDARD
TZOFFSETFROM:-0400
TZOFFSETTO:-0500
TZNAME:EST
DTSTART:20201101T060000
END:STANDARD
END:VTIMEZONE
BEGIN:VEVENT
DTSTART;VALUE=DATE:20220215
DTEND;VALUE=DATE:20220216
DTSTAMP:20260423T173452
CREATED:20220103T183507Z
LAST-MODIFIED:20220104T173009Z
UID:3266-1644883200-1644969599@peacefulschools.com
SUMMARY:Resilience Forward: Virtual Session
DESCRIPTION:This virtual workshop is focused on the link between teacher practices and positive youth development.  The training is anchored in a brief review of research on the formation of protective factors and resiliency traits and the instructional practices that promote self-resilience and persistence skills of the learner.  The training provides an overview of how integrating instructional practices to promote students’ skills in the following areas:  relationship/attachment skills\, self-regulation\, academic agency\, collaboration and healthy habits (self-care / personal wellness) and provides context for how these efforts lead to improved outcomes over the lifespan. \n Aligns with:  \n\nNYSED Diagnostic Tool for School and District Effectiveness: Tenant 5 (Social Emotional Learning and Tenant 6 (Family and Community Engagement)\nNYSED Culturally Responsive-Sustaining Education Framework:  Principle 1  (Welcoming and Affirming Environment) and Principle 3 (Identifying Inclusive Curriculum and Assessment)\nNew York State Network for Youth Success Quality Self Assessment (QSA): Element 3 (Relationships) & Element 5 (Programming and Activities)\n\nPresenter:  Dr. Lura Lunkenheimer\, President and CEO of Peaceful Schools \n Target Audience:  Educators k-12\, teachers in training\, afterschool providers\, Administration k-12\, Community Based Organizations working with students k-12 \n Date:  Tuesday\, February 15\, 2022 \nTimes:  10:00am – 11:30am OR 3:45pm – 5:15pm \nCost:  $35 per participant \n  \nRegister by February 8\, 2022
URL:https://peacefulschools.com/event/resilience-forward-virtual-session/
END:VEVENT
BEGIN:VEVENT
DTSTART;VALUE=DATE:20211103
DTEND;VALUE=DATE:20211104
DTSTAMP:20260423T173452
CREATED:20210929T153545Z
LAST-MODIFIED:20210929T154202Z
UID:3132-1635897600-1635983999@peacefulschools.com
SUMMARY:Peaceful Schools Virtual Trade Show
DESCRIPTION:REGISTER BELOW FOR EITHER OF OUR TWO 45-MINUTE EVENTS!!!!\n       
URL:https://peacefulschools.com/event/peaceful-schools-virtual-trade-show/
END:VEVENT
BEGIN:VEVENT
DTSTART;VALUE=DATE:20210609
DTEND;VALUE=DATE:20210611
DTSTAMP:20260423T173452
CREATED:20210515T141021Z
LAST-MODIFIED:20210517T171630Z
UID:2967-1623196800-1623369599@peacefulschools.com
SUMMARY:Peaceful Schools WNY Virtual Trade Show
DESCRIPTION:REGISTER BELOW FOR EITHER OF OUR TWO 45-MINUTE EVENTS!!!!\n 
URL:https://peacefulschools.com/event/peaceful-schools-wny-virtual-trade-show/
END:VEVENT
BEGIN:VEVENT
DTSTART;TZID=UTC:20200328T090000
DTEND;TZID=UTC:20200328T150000
DTSTAMP:20260423T173452
CREATED:20200304T214138Z
LAST-MODIFIED:20200304T214138Z
UID:1083-1585386000-1585407600@peacefulschools.com
SUMMARY:Musical Theatre Workshop Experience
DESCRIPTION:Our Musical Theatre Workshop series has expanded from 3 hour sessions to a FULL DAY of musical theatre goodness. \nJoin Beth\, Kelsie and Musical Director Dan Williams\, as they take you through a day of vocal technique\, musical theatre choreography\, and a lot of fun as you put together a piece from a modern show to perform for family and friends. \nThe song choice will be sent out one week prior to the workshop. Come prepared to have the best day ever and make some new friends. \nOpen to ages 8-18\nContent Skills: Musical Theatre choreography and singing\, Working in an Ensemble\, Voice and Diction\nSocial Skills: Responsibility\, Self-Control\, Assertion\nCommunity Connection: TBD
URL:https://peacefulschools.com/event/musical-theatre-workshop-experience/
LOCATION:Peaceful Schools\, 161 Intrepid Lane\, Syracuse\, NY\, 13205\, United States
END:VEVENT
BEGIN:VEVENT
DTSTART;TZID=UTC:20200322T213000
DTEND;TZID=UTC:20200322T230000
DTSTAMP:20260423T173452
CREATED:20200304T213308Z
LAST-MODIFIED:20200304T213704Z
UID:1075-1584912600-1584918000@peacefulschools.com
SUMMARY:Weird! The Musical in Concert
DESCRIPTION:Join us at Feinstein’s/54 Below for a joyous evening featuring the music of Weird! The Musical Enjoy a fun-filled concert version of the show based on the popular books\, The Weird Series – books to help children overcome bullying\, which tells one story of bullying from three different perspectives\, one who is being bullied\, a bystander\, and the one using bullying behavior. Created to perform for young audiences\, families and kids will enjoy seeing the pages of the books come to life on stage with Luisa\, Sam\, Jayla\, and their friends learning where their power comes from and how to use it. \nTickets are going fast! Get yours today at 54below.com! \nWith performances all over NY state and an original cast recording\, featuring Natalie Weiss\, available on iTunes and other online music stores\, Weird The Musical! will empower\, engage\, and enrich audiences to stand up with kindness! \nLuisa changes everything about herself – including her colorful polka dot boots – to avoid being called weird. Will this work? What else could she possibly do? \nSam picks on kids at school sometimes\, but she’s not really being mean…or is she? Caring people want to help Sam change. Will she let them? \nWhen Jayla witnesses her friend being bullied\, she is too scared to stand up for her. Then\, someone dares her to take part in the bullying. Will she find the courage to do what’s right? \nCome see you favorite Weird! Series characters come to life on stage in this brand new original musical. \nWeird! The Musical\nMusic by: Shawn Forster & Dani Ryan\nBook & Lyrics by: Shawn Forster\, David Reckess & Dani Ryan\nOrchestrations & Vocal Arrangements by: Roy George\nBased on Free Spirit Publishing’s The Weird Series by Erin Frankel and Illustrated by Paula Heaphy
URL:https://peacefulschools.com/event/weird-the-musical-in-concert/
LOCATION:Feinstein’s/54 Below\, 254 W 54th St\, New York\, NY\, United States
CATEGORIES:PS Productions
ATTACH;FMTTYPE=image/jpeg:https://peacefulschools.com/wp-content/uploads/2020/03/Weird-54-Below-poster.jpg
END:VEVENT
BEGIN:VEVENT
DTSTART;TZID=UTC:20200312T180000
DTEND;TZID=UTC:20200312T210000
DTSTAMP:20260423T173452
CREATED:20200304T212658Z
LAST-MODIFIED:20200304T213727Z
UID:1071-1584036000-1584046800@peacefulschools.com
SUMMARY:RAHMO Motivational Speaker for Families and Students
DESCRIPTION:Peaceful Schools and the Syracuse City School District are proud to host this event open to the entire SCSD community: join us as Rahmo\, Lepa Jones\, Tyrone Hines and Tez ‘light up’ the stage at Henninger High School. \nRespectfully Actively Helping Motivate Others (RAHMO)\, a Motivational Speaker and Life Coach at the Good Life Foundation\, will be speaking at Henninger on March 12th from 6 – 9 pm. All are welcome!
URL:https://peacefulschools.com/event/rahmo-motivational-speaker-for-families-and-students/
LOCATION:Henninger High School\, 600 Robinson St\, Syracuse\, NY\, United States
CATEGORIES:Community Schools
ATTACH;FMTTYPE=image/jpeg:https://peacefulschools.com/wp-content/uploads/2020/03/RAHMO-PS-Flyer.jpg
END:VEVENT
BEGIN:VEVENT
DTSTART;TZID=UTC:20200310T173000
DTEND;TZID=UTC:20200310T193000
DTSTAMP:20260423T173452
CREATED:20200304T211928Z
LAST-MODIFIED:20200304T215157Z
UID:1066-1583861400-1583868600@peacefulschools.com
SUMMARY:Craig Boykin Family Event
DESCRIPTION:Join us for this engaging event with nationally-recognized speaker\, Craig Boykin\, as he shares his story and his learning from his journey from “GED to PHD.” This event\, presented in partnership with the Syracuse City School District\, is open to SCSD families\, caregivers\, and all community members. \nDinner will be provided.
URL:https://peacefulschools.com/event/craig-boykin-family-event/
LOCATION:Institute of Technology at Central – ITC\, 258 E Adams St\, Syracuse\, NY\, United States
CATEGORIES:Community Schools
ATTACH;FMTTYPE=image/png:https://peacefulschools.com/wp-content/uploads/2020/03/Craig-Boykin-PS-Flyer.png
END:VEVENT
BEGIN:VEVENT
DTSTART;TZID=UTC:20200307T100000
DTEND;TZID=UTC:20200307T143000
DTSTAMP:20260423T173452
CREATED:20200304T215109Z
LAST-MODIFIED:20200304T215109Z
UID:1088-1583575200-1583591400@peacefulschools.com
SUMMARY:Caring Collagraph Cottages Printing Class
DESCRIPTION:Come try a new type of printmaking with us! \nA collagraph print is created using a collage of textured materials and/or cutout shapes that are glued or painted on a surface such as foam or cardboard. The image is then covered with ink and rolled through a small printing press to create a print multiple times. Students will focus on creating images with a house shape and imagery that represents home. \nOpen to ages 8-18. Space is limited. Students should bring a lunch.  \nContent Skills: Collagraph Printmaking \nSocial Skills: Cooperation\, Responsibility\, Empathy \nCommunity Connection: Each participant will make multiple copies and one will be framed and donated to Habitat for Humanity.
URL:https://peacefulschools.com/event/caring-collagraph-cottages-printing-class-2/
LOCATION:Peaceful Schools\, 161 Intrepid Lane\, Syracuse\, NY\, 13205\, United States
CATEGORIES:PS School of the Arts,Training Center
END:VEVENT
BEGIN:VEVENT
DTSTART;TZID=UTC:20200307T100000
DTEND;TZID=UTC:20200307T143000
DTSTAMP:20260423T173452
CREATED:20200304T214732Z
LAST-MODIFIED:20200304T214732Z
UID:1085-1583575200-1583591400@peacefulschools.com
SUMMARY:Caring Collagraph Cottages Printing Class
DESCRIPTION:Come try a new type of printmaking with us! \nA collagraph print is created using a collage of textured materials and/or cutout shapes that are glued or painted on a surface such as foam or cardboard. The image is then covered with ink and rolled through a small printing press to create a print multiple times. Students will focus on creating images with a house shape and imagery that represents home. \nOpen to ages 8-18. Space is limited. Students should bring a lunch.  \nContent Skills: Collagraph Printmaking \nSocial Skills: Cooperation\, Responsibility\, Empathy \nCommunity Connection: Each participant will make multiple copies and one will be framed and donated to Habitat for Humanity.
URL:https://peacefulschools.com/event/caring-collagraph-cottages-printing-class/
LOCATION:Peaceful Schools\, 161 Intrepid Lane\, Syracuse\, NY\, 13205\, United States
CATEGORIES:PS School of the Arts,Training Center
END:VEVENT
BEGIN:VEVENT
DTSTART;TZID=UTC:20191206T180000
DTEND;TZID=UTC:20191206T210000
DTSTAMP:20260423T173452
CREATED:20191025T132339Z
LAST-MODIFIED:20191025T132339Z
UID:785-1575655200-1575666000@peacefulschools.com
SUMMARY:Coasters and Cocktails
DESCRIPTION:Join us for our first adults-only workshop!! Looking for a super-fun way to make a really neat gift for the holidays? Bring a friend and a drink of choice for a 3-hour adventure in making a set of 4 beautiful and functional coasters. \nLee and Lynette from Anchored Compass Studio will guide you through the whole process\, from creating your design to sealing the finished product! \nOur work at PS School of the Arts always involves social-skills and serving our community. You grown-ups work so hard\, the skill we will focus on is Asserting Your Self-Care Needs\, because you deserve an evening of fun! And you are creating something to share with whomever you choose- that is your connection 🙂 \nLiability waivers are required at time of registration. Please drink responsibly and plan ahead for safe driving. Open to ages 21+
URL:https://peacefulschools.com/event/coasters-and-cocktails/
LOCATION:Peaceful Schools\, 161 Intrepid Lane\, Syracuse\, NY\, 13205\, United States
CATEGORIES:Training Center
ATTACH;FMTTYPE=image/jpeg:https://peacefulschools.com/wp-content/uploads/2019/10/Coasters-and-Cocktails-e1572009789686.jpg
END:VEVENT
BEGIN:VEVENT
DTSTART;VALUE=DATE:20191114
DTEND;VALUE=DATE:20191118
DTSTAMP:20260423T173452
CREATED:20190920T141659Z
LAST-MODIFIED:20190920T141659Z
UID:643-1573689600-1574035199@peacefulschools.com
SUMMARY:Innovative Schools Summit
DESCRIPTION:Dr. Lura\, Carin\, and Yolanda will be on hand to present at the School Climate & Culture Forum. Come see their presentation: “Turned Around: Effective Multi-tiered Systems of Support as a Key Lever for School Improvement” and say hello!
URL:https://peacefulschools.com/event/innovative-schools-summit/
LOCATION:Marriott Rivercenter\, San Antonio\, TX
ATTACH;FMTTYPE=image/png:https://peacefulschools.com/wp-content/uploads/2019/09/innovative-schools-summit-transparent.png
END:VEVENT
BEGIN:VEVENT
DTSTART;VALUE=DATE:20191113
DTEND;VALUE=DATE:20191114
DTSTAMP:20260423T173452
CREATED:20190920T143308Z
LAST-MODIFIED:20190920T144528Z
UID:650-1573603200-1573689599@peacefulschools.com
SUMMARY:Rise Up!
DESCRIPTION:Our enthusiastic cast is ready to meet the students at Heim Elementary School in Williamsville\, NY\, and to bring them our wholly original\, energetic\, interactive character education talk show! \nTo schedule the Rise Up! team for your school\, visit productions.peacefulschools.com!
URL:https://peacefulschools.com/event/rise-up/
LOCATION:Heim Elementary\, Williamsville\, NY
ATTACH;FMTTYPE=image/png:https://peacefulschools.com/wp-content/uploads/2019/09/Rise-Up-Banner-1180x350.png
END:VEVENT
BEGIN:VEVENT
DTSTART;VALUE=DATE:20191020
DTEND;VALUE=DATE:20191022
DTSTAMP:20260423T173452
CREATED:20190913T180030Z
LAST-MODIFIED:20190918T183121Z
UID:583-1571529600-1571702399@peacefulschools.com
SUMMARY:School Administrators Association of New York State (SAANYS) Annual Conference
DESCRIPTION:We can’t wait for this great conference. Come say hi at our table in the Exhibitor Hall!
URL:https://peacefulschools.com/event/school-administrators-association-of-new-york-state-saanys-annual-conference/
LOCATION:Sagamore Resort\, Lake George\, NY
ATTACH;FMTTYPE=image/png:https://peacefulschools.com/wp-content/uploads/2019/09/saanys-conference.png
ORGANIZER;CN="SAANYS":MAILTO:saanys.org
END:VEVENT
BEGIN:VEVENT
DTSTART;TZID=UTC:20191007T090000
DTEND;TZID=UTC:20191007T153000
DTSTAMP:20260423T173452
CREATED:20190920T134031Z
LAST-MODIFIED:20190920T140827Z
UID:631-1570438800-1570462200@peacefulschools.com
SUMMARY:De-Escalation Training
DESCRIPTION:This highly-interactive training helps staff develop and rehearse strategies for recognizing and responding to students’ challenging behaviors. Open to anyone who works with youth – whether in school\, after-school\, or other settings.  Come practice your skills with us! \nSpace is limited. Contact JoannaT@peacefulschools.com for more info or to register today!
URL:https://peacefulschools.com/event/de-escalation-training/
LOCATION:Hyatt Place Buffalo/Amherst\, 5020 Main St.\, Amherst\, NY\, 14226\, United States
ATTACH;FMTTYPE=image/jpeg:https://peacefulschools.com/wp-content/uploads/2019/09/October-De-Escalation-training-e1568987175620.jpg
END:VEVENT
BEGIN:VEVENT
DTSTART;TZID=UTC:20191005T090000
DTEND;TZID=UTC:20191005T140000
DTSTAMP:20260423T173452
CREATED:20190920T140701Z
LAST-MODIFIED:20190920T140701Z
UID:638-1570266000-1570284000@peacefulschools.com
SUMMARY:Building Strong Community Schools
DESCRIPTION:Dr. Lura and members of our Community Schools team are excited to learn and share about how to create and sustain successful community schools. Hope to see you at this FREE event! \nRegister at bit.ly/bscs19.
URL:https://peacefulschools.com/event/building-strong-community-schools/
LOCATION:West Hertel Academy\, P.S. #94\, 489 Hertel Ave\, Buffalo\, NY
ATTACH;FMTTYPE=image/png:https://peacefulschools.com/wp-content/uploads/2019/09/bscs_10-5-19-e1568988410234.png
ORGANIZER;CN="New York State Community Schools Technical Assistance Centers":MAILTO:cstac@binghamton.edu
END:VEVENT
BEGIN:VEVENT
DTSTART;VALUE=DATE:20190922
DTEND;VALUE=DATE:20190925
DTSTAMP:20260423T173452
CREATED:20190913T175006Z
LAST-MODIFIED:20190918T183043Z
UID:576-1569110400-1569369599@peacefulschools.com
SUMMARY:New York State Council of School Superintendents (NYSCOSS) Fall Leadership Summit
DESCRIPTION:We’re looking forward to some great learning at this conference. Come visit us in Booth 24 in the Exhibitor Hall!
URL:https://peacefulschools.com/event/new-york-state-council-of-school-superintendents-nyscoss-fall-leadership-summit/
LOCATION:Saratoga Hilton & Saratoga Springs City Center\, Saratoga Springs\, NY\, United States
ATTACH;FMTTYPE=image/jpeg:https://peacefulschools.com/wp-content/uploads/2019/09/NYSCOSS-conference.jpg
END:VEVENT
BEGIN:VEVENT
DTSTART;TZID=America/New_York:20190725T090000
DTEND;TZID=America/New_York:20190725T153000
DTSTAMP:20260423T173452
CREATED:20190528T145001Z
LAST-MODIFIED:20190528T145555Z
UID:379-1564045200-1564068600@peacefulschools.com
SUMMARY:Student Leadership Summit
DESCRIPTION:Do you want to be a leader in your school and community? Join Carin for a day of exploration and skill-building! Work to create your style of leadership and practice putting it into action. Perfect for building your college and work resume! \nOpen to High School Sophomores\, Juniors\, Seniors and College Freshmen. \nClick here to register!
URL:https://peacefulschools.com/event/student-leadership-summit/
LOCATION:Peaceful Schools\, 161 Intrepid Lane\, Syracuse\, NY\, 13205\, United States
CATEGORIES:Training Center
END:VEVENT
BEGIN:VEVENT
DTSTART;TZID=America/New_York:20190609T140000
DTEND;TZID=America/New_York:20190609T180000
DTSTAMP:20260423T173452
CREATED:20190528T144732Z
LAST-MODIFIED:20190528T144732Z
UID:370-1560088800-1560103200@peacefulschools.com
SUMMARY:Weird! The Musical
DESCRIPTION:BACK BY POPULAR DEMAND FOR 2 SHOWS ONLY! \nWeird! The Musical\, based on the Weird! book series by Erin Frankel and Paula Heaphy\, is an energetic family musical with a powerful message. One story of bullying told from three different female characters’ perspectives…one who is bullied (Weird!)\, a bystander (Dare!)\, and the one 411 Montgomery Stusing bullying behavior (Tough!). Created to perform for young audiences\, families and kids will enjoy seeing the pages of the books come to life on stage with Luisa\, Sam\, Jayla and their friends learning where their power comes from and how to use it. \nWeird! is returning to The Oncenter Carrier Theater on June 9th for two public performances. The author and illustrator of The Weird Series – books to help children overcome bullying will also be there to sell and sign copies of their books! \nPurchase tickets today!
URL:https://peacefulschools.com/event/weird-the-musical/
LOCATION:Oncenter Civic Center Theaters\, 411 Montgomery St\, Syracuse\, NY\, 13202\, United States
END:VEVENT
END:VCALENDAR